BEGIN:VCALENDAR
VERSION:2.0
PRODID:-//ChamberMaster//Event Calendar 2.0//EN
METHOD:PUBLISH
X-PUBLISHED-TTL:P3D
REFRESH-INTERVAL:P3D
CALSCALE:GREGORIAN
BEGIN:VEVENT
DTSTART:20240518T130000Z
DTEND:20240519T130000Z
X-MICROSOFT-CDO-ALLDAYEVENT:FALSE
SUMMARY:Brookfield Farm Annual Seedling Sale
DESCRIPTION:Brookfield Farm 2024 Annual Seedling Sale We will offer are our much loved tried and true vegetable and flower varieties that work for us here in Amherst. All our seedlings are grown in an organic compost based potting soil. Check out the variety list on our website www.brookfieldfarm.org
X-ALT-DESC;FMTTYPE=text/html:Brookfield Farm 2024 Annual Seedling Sale We will offer are our much loved tried and true vegetable and flower varieties that work for us here in Amherst. All our seedlings are grown in an organic compost based potting soil. Check out the variety list on our website www.brookfieldfarm.org
LOCATION:Brookfield Farm 24 Hulst Rd\, Amherst
UID:e.1230.24185
SEQUENCE:3
DTSTAMP:20260422T221613Z
URL:https://business.amherstarea.com/events/details/brookfield-farm-annual-seedling-sale-24185
END:VEVENT

END:VCALENDAR
