BEGIN:VCALENDAR
VERSION:2.0
PRODID:-//ChamberMaster//Event Calendar 2.0//EN
METHOD:PUBLISH
X-PUBLISHED-TTL:P3D
REFRESH-INTERVAL:P3D
CALSCALE:GREGORIAN
BEGIN:VEVENT
DTSTART:20250326T220000Z
DTEND:20250326T233000Z
X-MICROSOFT-CDO-ALLDAYEVENT:FALSE
SUMMARY:Branding Belchertown Open House
DESCRIPTION:If you live\, work or visit Belchertown\, stop by the Open House to contribute input for the logo design project underway. You'll learn more about the project\, meet the designer\, and share ideas about what the new logo should reflect.
X-ALT-DESC;FMTTYPE=text/html:If you live\, work or visit Belchertown\, stop by the Open House to contribute input for the logo design project underway. You&#39\;ll learn more about the project\, meet the designer\, and share ideas about what the new logo should reflect.
LOCATION:Belchertown Town Hall
UID:e.1230.24307
SEQUENCE:3
DTSTAMP:20260422T054843Z
URL:https://business.amherstarea.com/events/details/branding-belchertown-open-house-24307
END:VEVENT

END:VCALENDAR
