BEGIN:VCALENDAR
VERSION:2.0
PRODID:-//ChamberMaster//Event Calendar 2.0//EN
METHOD:PUBLISH
X-PUBLISHED-TTL:P3D
REFRESH-INTERVAL:P3D
CALSCALE:GREGORIAN
BEGIN:VEVENT
DTSTART:20260117T170000Z
DTEND:20260117T180000Z
X-MICROSOFT-CDO-ALLDAYEVENT:FALSE
SUMMARY:Big Kid Flicks Age 8+ (New York International Children's Film Festival)
DESCRIPTION:((2nd Showing at 3 pm) These amazing short films from around the world are sure to inspire curiosity and conversation for viewers big and small. With animation\, live action\, and documentary shorts\, Kid Flicks programs offer a chance to explore new frontiers from around the world\, across the street\, and the ever-expanding boundaries of our own perspectives.
X-ALT-DESC;FMTTYPE=text/html:((2nd Showing at 3 pm) These amazing short films from around the world are sure to inspire curiosity and conversation for viewers big and small. With animation\, live action\, and documentary shorts\, Kid Flicks programs offer a chance to explore new frontiers from around the world\, across the street\, and the ever-expanding boundaries of our own perspectives.
LOCATION:The Eric Carle Museum of Picture Book Art
UID:e.1230.24643
SEQUENCE:3
DTSTAMP:20260421T143856Z
URL:https://business.amherstarea.com/events/details/big-kid-flicks-age-8-new-york-international-children-s-film-festival-24643
END:VEVENT

END:VCALENDAR
