BEGIN:VCALENDAR
VERSION:2.0
PRODID:-//ChamberMaster//Event Calendar 2.0//EN
METHOD:PUBLISH
X-PUBLISHED-TTL:P3D
REFRESH-INTERVAL:P3D
CALSCALE:GREGORIAN
BEGIN:VEVENT
DTSTART:20240713T120000Z
DTEND:20240713T170000Z
X-MICROSOFT-CDO-ALLDAYEVENT:FALSE
SUMMARY:Art Behind the Barn
DESCRIPTION:The Brookfield Farm Annual Art Behind the Barn will be held on Saturday\, July 13\, 2024 from 8:00AM-12:00PM. Check out the beautiful art made by our community. Free and open to the public. Rain or Shine.
X-ALT-DESC;FMTTYPE=text/html:The Brookfield Farm Annual Art Behind the Barn will be held on Saturday\, July 13\, 2024 from 8:00AM-12:00PM. Check out the beautiful art made by our community. Free and open to the public. Rain or Shine.
LOCATION:Brookfield Farm 24 Hulst Rd Amherst\, MA 01002
UID:e.1230.24200
SEQUENCE:3
DTSTAMP:20260424T084042Z
URL:https://business.amherstarea.com/events/details/art-behind-the-barn-07-13-2024-24200
END:VEVENT

END:VCALENDAR
