BEGIN:VCALENDAR
VERSION:2.0
PRODID:-//ChamberMaster//Event Calendar 2.0//EN
METHOD:PUBLISH
X-PUBLISHED-TTL:P3D
REFRESH-INTERVAL:P3D
CALSCALE:GREGORIAN
BEGIN:VEVENT
DTSTART:20250430T213000Z
DTEND:20250430T230000Z
X-MICROSOFT-CDO-ALLDAYEVENT:FALSE
SUMMARY:Anytime Fitness Open House
DESCRIPTION:This community event invites residents and local professionals to explore the club\, experience its welcoming culture\, and learn more about its commitment to health\, wellness\, and community engagement.\n\nThe open house will feature Anytime Fitness' collaborations with other local businesses in the area\, including fellow Amherst Area Chamber member Playa Bowls\, which will serve complimentary protein bites and shakes throughout the event.\n\nAs a special offer\, attendees who sign up for a membership to Anytime Fitness during the event will have their enrollment fee waived. Members of the business community can also learn more about Anytime Fitness' unique offers for corporate business memberships to the gym.
X-ALT-DESC;FMTTYPE=text/html:<p dir="ltr" style="line-height:1.38\;margin-top:12pt\;margin-bottom:12pt\;"><span id="docs-internal-guid-4cd12d2c-7fff-df82-7899-21559e854004"><span style="font-size: 11pt\; font-family: Arial\, sans-serif\; color: rgb(0\, 0\, 0)\; background-color: transparent\; font-variant-numeric: normal\; font-variant-east-asian: normal\; font-variant-alternates: normal\; font-variant-position: normal\; font-variant-emoji: normal\; vertical-align: baseline\; white-space-collapse: preserve\;">This community event invites residents and local professionals to explore the club\, experience its welcoming culture\, and learn more about its commitment to health\, wellness\, and community engagement.</span></span></p>\n\n<p dir="ltr" style="line-height:1.38\;margin-top:12pt\;margin-bottom:12pt\;"><span id="docs-internal-guid-4cd12d2c-7fff-df82-7899-21559e854004"><span style="font-size: 11pt\; font-family: Arial\, sans-serif\; color: rgb(0\, 0\, 0)\; background-color: transparent\; font-variant-numeric: normal\; font-variant-east-asian: normal\; font-variant-alternates: normal\; font-variant-position: normal\; font-variant-emoji: normal\; vertical-align: baseline\; white-space-collapse: preserve\;">The open house will feature Anytime Fitness&rsquo\; collaborations with other local businesses in the area\, including fellow Amherst Area Chamber member Playa Bowls\, which will serve complimentary protein bites and shakes throughout the event.</span></span></p>\n\n<p dir="ltr" style="line-height:1.38\;margin-top:12pt\;margin-bottom:12pt\;"><span id="docs-internal-guid-4cd12d2c-7fff-df82-7899-21559e854004"><span style="font-size: 11pt\; font-family: Arial\, sans-serif\; color: rgb(0\, 0\, 0)\; background-color: transparent\; font-variant-numeric: normal\; font-variant-east-asian: normal\; font-variant-alternates: normal\; font-variant-position: normal\; font-variant-emoji: normal\; vertical-align: baseline\; white-space-collapse: preserve\;">As a special offer\, attendees who sign up for a membership to Anytime Fitness during the event will have their enrollment fee waived. Members of the business community can also learn more about Anytime Fitness&rsquo\; unique offers for corporate business memberships to the gym.</span></span></p>\n
LOCATION:Anytime Fitness 458 Russell St Hadley\, MA
UID:e.1230.24336
SEQUENCE:3
DTSTAMP:20260421T124126Z
URL:https://business.amherstarea.com/events/details/anytime-fitness-open-house-24336
END:VEVENT

END:VCALENDAR
