BEGIN:VCALENDAR
VERSION:2.0
PRODID:-//ChamberMaster//Event Calendar 2.0//EN
METHOD:PUBLISH
X-PUBLISHED-TTL:P3D
REFRESH-INTERVAL:P3D
CALSCALE:GREGORIAN
BEGIN:VEVENT
DTSTART:20250416T140000Z
DTEND:20250416T160000Z
X-MICROSOFT-CDO-ALLDAYEVENT:FALSE
SUMMARY:Annual Health Fair: Aging in Place
DESCRIPTION:Join us at our Spring Health Fair\, where local agencies and nonprofits dedicated to serving older adults will showcase their services and programs. Learn about valuable resources available in our community and how they can support you or a loved one. Featured participants include Oasis Senior Advisors\, Highland Valley Elder Services\, and many more. Raffle Giveaway: Each visitor will be entered into a raffle for a chance to win fabulous prizes!
X-ALT-DESC;FMTTYPE=text/html:Join us at our Spring Health Fair\, where local agencies and nonprofits dedicated to serving older adults will showcase their services and programs. Learn about valuable resources available in our community and how they can support you or a loved one. Featured participants include Oasis Senior Advisors\, Highland Valley Elder Services\, and many more. Raffle Giveaway: Each visitor will be entered into a raffle for a chance to win fabulous prizes!
LOCATION:Hadley Senior Center\, 46 Middle Street Hadley\, MA 01035\, United States
UID:e.1230.24310
SEQUENCE:3
DTSTAMP:20260421T123450Z
URL:https://business.amherstarea.com/events/details/annual-health-fair-aging-in-place-24310
END:VEVENT

END:VCALENDAR
