BEGIN:VCALENDAR
VERSION:2.0
PRODID:-//ChamberMaster//Event Calendar 2.0//EN
METHOD:PUBLISH
X-PUBLISHED-TTL:P3D
REFRESH-INTERVAL:P3D
CALSCALE:GREGORIAN
BEGIN:VEVENT
DTSTART:20250311T153000Z
DTEND:20250311T163000Z
X-MICROSOFT-CDO-ALLDAYEVENT:FALSE
SUMMARY:Age Friendly Pioneer Valley Regional Meeting: Active Transportation on Zoom
DESCRIPTION:Join the Pioneer Valley Planning Commission in discussing Active Transportation\, the Regional Bike and Pedestrian Plan\, and the Complete Streets Program.\n\n			 \n\n			Regional Bike and Pedestrian Plan:\n\n			 The Pioneer Valley Planning Commission is updating the Region's Bicycle and Pedestrian Plan. The plan describes the status of walking and bicycling in the Pioneer Valley\, but more importantly\, it highlights actions that state\, regional and municipal government\, advocacy organizations and individuals can take to encourage people to walk and bicycle in the Pioneer Valley. PVPC is interested in identifying the actions we can take to make places for people to walk and bicycle. This plan combines policy-related actions and physical projects that regional officials and citizens can collaborate on to improve conditions for pedestrians and bicyclists. We want to hear from you. What would make walking or biking safer in your community or neighborhood?\n\n			 \n\n			Complete Streets: This meeting will include as short presentation of the Complete Streets program and what municipalities can do to join the program and access funds for planning and implementation of projects for pedestrians\, people on bikes or using wheelchairs\, and public transportation. \n			\n		\n	\n\n\n\n	\n		\n			REGISTER HERE\n\n			Register here!
X-ALT-DESC;FMTTYPE=text/html:<table border="0" cellpadding="0" cellspacing="0" style="color: rgb(34\, 34\, 34)\; font-family: Arial\, Helvetica\, sans-serif\; font-size: small\; background-color: rgb(238\, 242\, 249)\; table-layout: fixed\;" width="100%">\n	<tbody>\n		<tr>\n			<td align="left" style="margin: 0px\; line-height: 1.2\; font-family: Arial\, Verdana\, Helvetica\, sans-serif\; color: rgb(64\, 63\, 66)\; font-size: 14px\; display: block\; overflow-wrap: break-word\; padding: 10px 20px\;" valign="top">\n			<p align="center" style="text-align: center\; margin: 0px\;"><span style="font-size: 15px\; color: rgb(0\, 0\, 0)\;">Join the Pioneer Valley Planning Commission in discussing Active Transportation\, the Regional Bike and Pedestrian Plan\, and the Complete Streets Program.</span></p>\n\n			<p align="center" style="text-align: center\; margin: 0px\;">&nbsp\;</p>\n\n			<p style="margin: 0px\;"><span style="font-size: 15px\; color: rgb(0\, 0\, 0)\; font-weight: bold\;">Regional Bike and Pedestrian Plan:</span></p>\n\n			<p style="margin: 0px\;"><span style="font-size: 15px\; color: rgb(0\, 0\, 0)\; font-weight: bold\;">&#65279\;</span><span style="font-size: 15px\; color: rgb(0\, 0\, 0)\;">The Pioneer Valley Planning Commission is updating the Region&rsquo\;s Bicycle and Pedestrian Plan. The plan describes the status of walking and bicycling in the Pioneer Valley\, but more importantly\, it highlights actions that state\, regional and municipal government\, advocacy organizations and individuals can take to encourage people to walk and bicycle in the Pioneer Valley.&nbsp\;PVPC is interested in identifying the actions we can take to make places for people to walk and bicycle.&nbsp\;This plan combines policy-related actions and physical projects that regional officials and citizens can collaborate on to improve conditions for pedestrians and bicyclists.&nbsp\;We want to hear from you.&nbsp\;What would make walking or biking safer in your community or neighborhood?</span></p>\n\n			<p style="margin: 0px\;">&nbsp\;</p>\n\n			<p style="margin: 0px\;"><span style="font-size: 15px\; color: rgb(0\, 0\, 0)\; font-weight: bold\;">Complete Streets:&nbsp\;</span><span style="font-size: 15px\; color: rgb(0\, 0\, 0)\;">This meeting will include as short presentation of the Complete Streets program and what municipalities can do to join the program and access funds for planning and implementation of projects for pedestrians\, people on bikes or using wheelchairs\, and public transportation.&nbsp\;</span></p>\n			</td>\n		</tr>\n	</tbody>\n</table>\n\n<table border="0" cellpadding="0" cellspacing="0" style="color: rgb(34\, 34\, 34)\; font-family: Arial\, Helvetica\, sans-serif\; font-size: small\; background-color: rgb(238\, 242\, 249)\; table-layout: fixed\;" width="100%">\n	<tbody>\n		<tr>\n			<td align="center" style="margin: 0px\; padding: 10px 20px\;"><a href="https://us02web.zoom.us/meeting/register/hSJxuoZJQCqjijr8Iz178w#/registration"><strong>REGISTER HERE</strong></a><br />\n			<a data-saferedirecturl="https://www.google.com/url?q=https://rfxbinhbb.cc.rs6.net/tn.jsp?f%3D001guynN7VbyjPy70F4c3ZgmAUU4eEQW6_WGa1u2C93Eb2SBPw35YoDetMHb6RqkmwV4JfE8S50z8wfLWOQXpR31EbZ5oNZJINjmo5bUl6LU4f17fNlb1ILxcxByGJv90pmW-o0xL8sWh2mkuZuFtqMKIotD2H4rl01tI5wwQK91nzcrjvYs8qz1TebyuL1EtK9W46zqdMprGaudiBMMG58XXQK-GdLhpjimxt5vkNulbQ%3D%26c%3DmyLLxEHIAoUFq6HKxK8uHBHV5DTD7hDDIVkBTK5RYpPnLLDTcwebGA%3D%3D%26ch%3DqVsVGJ4sBrHrWcwWyqhhHk6ynWrpMS3cUL50Wm5qb8kYld6aL1EQ2g%3D%3D&amp\;source=gmail&amp\;ust=1740585527155000&amp\;usg=AOvVaw1b-jQcP2Wezqfid4tgjXR6" href="https://rfxbinhbb.cc.rs6.net/tn.jsp?f=001guynN7VbyjPy70F4c3ZgmAUU4eEQW6_WGa1u2C93Eb2SBPw35YoDetMHb6RqkmwV4JfE8S50z8wfLWOQXpR31EbZ5oNZJINjmo5bUl6LU4f17fNlb1ILxcxByGJv90pmW-o0xL8sWh2mkuZuFtqMKIotD2H4rl01tI5wwQK91nzcrjvYs8qz1TebyuL1EtK9W46zqdMprGaudiBMMG58XXQK-GdLhpjimxt5vkNulbQ=&amp\;c=myLLxEHIAoUFq6HKxK8uHBHV5DTD7hDDIVkBTK5RYpPnLLDTcwebGA==&amp\;ch=qVsVGJ4sBrHrWcwWyqhhHk6ynWrpMS3cUL50Wm5qb8kYld6aL1EQ2g==" style="color: rgb(255\, 255\, 255)\; text-align: -webkit-center\; font-size: 16px\; font-family: Arial\, Verdana\, Helvetica\, sans-serif\; overflow-wrap: break-word\; text-decoration-line: none\;" target="_blank">Register here!</a></td>\n		</tr>\n	</tbody>\n</table>\n
LOCATION:On ZOOM
UID:e.1230.24294
SEQUENCE:3
DTSTAMP:20260422T055113Z
URL:https://business.amherstarea.com/events/details/age-friendly-pioneer-valley-regional-meeting-active-transportation-on-zoom-24294
END:VEVENT

END:VCALENDAR
