BEGIN:VCALENDAR
VERSION:2.0
PRODID:-//ChamberMaster//Event Calendar 2.0//EN
METHOD:PUBLISH
X-PUBLISHED-TTL:P3D
REFRESH-INTERVAL:P3D
CALSCALE:GREGORIAN
BEGIN:VEVENT
DTSTART:20260624T203000Z
DTEND:20260624T223000Z
X-MICROSOFT-CDO-ALLDAYEVENT:FALSE
SUMMARY:2026 June After 5: Small Business Expo
DESCRIPTION:Join us!\n\n\n\nThe Small Business Expo highlights the Chamber's newest members and their products and services with a summer vibe under the large tent at the Inn on Boltwood's beautiful property. This event provides an opportunity for new businesses to table and connect with the community\, while inviting participation from established members and local residents to network\, explore\, and celebrate the latest additions to the Amherst Area business landscape.\n\n\n\nJoin the Chamber by June 10th to reserve your spot!\n\n\n\nMore details to come.
X-ALT-DESC;FMTTYPE=text/html:<p><span style="box-sizing: border-box\; font-weight: bolder\; font-family: &quot\;Source sans pro&quot\;\, sans-serif\; font-size: 16px\;">Join us!</span><br style="box-sizing: border-box\; font-family: &quot\;Source sans pro&quot\;\, sans-serif\; font-size: 16px\;" />\n<br style="box-sizing: border-box\; font-family: &quot\;Source sans pro&quot\;\, sans-serif\; font-size: 16px\;" />\n<span style="font-family: &quot\;Source sans pro&quot\;\, sans-serif\; font-size: 16px\;">The&nbsp\;</span><span style="box-sizing: border-box\; font-weight: bolder\; font-family: &quot\;Source sans pro&quot\;\, sans-serif\; font-size: 16px\;">Small Business Expo&nbsp\;</span><span style="font-family: &quot\;Source sans pro&quot\;\, sans-serif\; font-size: 16px\;">highlights the Chamber&rsquo\;s newest members and their products and services with a summer vibe under the large tent at the Inn on Boltwood&#39\;s beautiful property. This event provides an opportunity for new businesses to table and connect with the community\, while inviting participation from established members and local residents to network\, explore\, and celebrate the latest additions to the Amherst Area business landscape.</span><br style="box-sizing: border-box\; font-family: &quot\;Source sans pro&quot\;\, sans-serif\; font-size: 16px\;" />\n<br style="box-sizing: border-box\; font-family: &quot\;Source sans pro&quot\;\, sans-serif\; font-size: 16px\;" />\n<span style="box-sizing: border-box\; font-weight: bolder\; font-family: &quot\;Source sans pro&quot\;\, sans-serif\; font-size: 16px\;">Join the Chamber by June 10th&nbsp\;to reserve your spot!<br />\n<br />\n<em>More details to come.</em></span></p>\n
LOCATION:Inn on Boltwood 30 Boltwood Ave Amherst\, MA
UID:e.1230.24845
SEQUENCE:3
DTSTAMP:20260424T214813Z
URL:https://business.amherstarea.com/events/details/2026-june-after-5-small-business-expo-24845
END:VEVENT

END:VCALENDAR
