BEGIN:VCALENDAR
VERSION:2.0
PRODID:-//ChamberMaster//Event Calendar 2.0//EN
METHOD:PUBLISH
X-PUBLISHED-TTL:P3D
REFRESH-INTERVAL:P3D
CALSCALE:GREGORIAN
BEGIN:VEVENT
DTSTART:20250925T210000Z
DTEND:20250925T230000Z
X-MICROSOFT-CDO-ALLDAYEVENT:FALSE
SUMMARY:2025 Western MA Awards for Marketplace Excellence
DESCRIPTION:On Thursday\, September 25\, 2025\, the Better Business Bureau of Central New England will host the 2025 Western MA Awards for Marketplace Excellence at the beautiful Boylston Rooms in Easthampton\, MA. The Boylston Rooms has been a BBB Accredited Business for 7 years\, and we are thrilled to be working with them for this year's celebration. This evening will recognize integrity\, trust\, and excellence in our business community complete with networking\, recognition\, and an opportunity to honor outstanding businesses across Western Massachusetts.\n\n\n\nDate: Thursday\, September 25\, 2025\n\nTime: 5:00 PM - 7:00 PM\n\nLocation: The Boylston Rooms\, 122 Pleasant St\, Easthampton\, MA 01027\n\n\n\nThe Western MA Awards for Marketplace Excellence celebrates businesses and nonprofits that exemplify outstanding ethical practices\, leadership\, and commitment to their customers\, employees\, and communities. Hosted by the Better Business Bureau of Central New England\, this prestigious event honors the best in the marketplace while providing a premier networking opportunity for local business leaders. BBB believes in the power of trust and our mission is to advance trust in the marketplace. Through evaluation\, Accreditation\, education\, and celebration\, BBB builds a community of like-minded businesses that can impact people and communities positively. The Awards for Marketplace Excellence promote the importance of ethical business practices and convey to the entire business community that upholding the Better Business Bureau's ethical standards is the mark of a successful and competitive business.
X-ALT-DESC;FMTTYPE=text/html:On Thursday\, September 25\, 2025\, the Better Business Bureau of Central New England will host the 2025 Western MA Awards for Marketplace Excellence at the beautiful Boylston Rooms in Easthampton\, MA. The Boylston Rooms has been a BBB Accredited Business for 7 years\, and we are thrilled to be working with them for this year&rsquo\;s celebration. This evening will recognize integrity\, trust\, and excellence in our business community&mdash\;complete with networking\, recognition\, and an opportunity to honor outstanding businesses across Western Massachusetts.<br />\n<br />\nDate: Thursday\, September 25\, 2025<br />\nTime: 5:00 PM - 7:00 PM<br />\nLocation: The Boylston Rooms\, 122 Pleasant St\, Easthampton\, MA 01027<br />\n<br />\nThe Western MA Awards for Marketplace Excellence celebrates businesses and nonprofits that exemplify outstanding ethical practices\, leadership\, and commitment to their customers\, employees\, and communities. Hosted by the Better Business Bureau of Central New England\, this prestigious event honors the best in the marketplace while providing a premier networking opportunity for local business leaders. BBB believes in the power of trust and our mission is to advance trust in the marketplace. Through evaluation\, Accreditation\, education\, and celebration\, BBB builds a community of like-minded businesses that can impact people and communities positively. The Awards for Marketplace Excellence promote the importance of ethical business practices and convey to the entire business community that upholding the Better Business Bureau&#39\;s ethical standards is the mark of a successful and competitive business.
LOCATION:The Boylston Rooms\, 122 Pleasant St\, Easthampton\, MA 01027
UID:e.1230.24526
SEQUENCE:3
DTSTAMP:20260421T204034Z
URL:https://business.amherstarea.com/events/details/2025-western-ma-awards-for-marketplace-excellence-24526
END:VEVENT

END:VCALENDAR
