BEGIN:VCALENDAR
VERSION:2.0
PRODID:-//ChamberMaster//Event Calendar 2.0//EN
METHOD:PUBLISH
X-PUBLISHED-TTL:P3D
REFRESH-INTERVAL:P3D
CALSCALE:GREGORIAN
BEGIN:VEVENT
DTSTART:20250911T210000Z
DTEND:20250911T230000Z
X-MICROSOFT-CDO-ALLDAYEVENT:FALSE
SUMMARY:2025 September After 5: Blue Heron Restaurant
DESCRIPTION:Thank you for registering for our September After 5 at the Blue Heron Restaurant! We look forward to seeing you this evening. Some helpful information:\n\n	Parking lots are available behind the Blue Heron building\, and there is free town parking in front of the building and across the street.\n	Remarks will take place around 6:30 PM\, and door prizes will be announced.\n\n~\n\nJoin us for a delightful evening of networking at the award-winning Blue Heron Restaurant in Sunderland! The Amherst Area Chamber of Commerce's September "After 5" networking event is taking place on Thursday\, September 11th from 5 to 7 PM.\n\n\n\nThank you to our Presenting Sponsor\, Greenfield Northampton Cooperative Bank\, for making this possible!\n\n\n\nOur Featured Nonprofit is the Franklin County CDC (FCCDC)\, which helps small business owners and entrepreneurs with business planning\, lending\, and commercial space. \n\n\n\nOur monthly After 5 events are designed to bring local business professionals together in a welcoming atmosphere\, where you can meet with Chamber members and expand your network. Enter in door prizes\, listen to live music by LeFever\, and enjoy light fare prepared by the Blue Heron Restaurant\, named Best of the Valley 2025: French Restaurant and recipient of the 2025 Wine Spectator Award of Excellence!
X-ALT-DESC;FMTTYPE=text/html:Thank you for registering for our September After 5 at the Blue Heron Restaurant! We look forward to seeing you this evening. Some helpful information:\n<ul>\n	<li>Parking lots are available behind the Blue Heron building\, and there is free town parking in front of the building and across the street.</li>\n	<li>Remarks will take place around 6:30 PM\, and door prizes will be announced.</li>\n</ul>\n~<br />\nJoin us for a delightful evening of networking at the award-winning <strong>Blue Heron Restaurant</strong> in Sunderland! The Amherst Area Chamber of Commerce&#39\;s September &quot\;After 5&quot\; networking event is taking place on <strong>Thursday\, September 11th</strong> from <strong>5 to 7 PM</strong>.<br />\n<br />\nThank you to our Presenting Sponsor\, <strong>Greenfield Northampton Cooperative Bank</strong>\, for making this possible!<br />\n<br />\nOur Featured Nonprofit is the <strong>Franklin County CDC</strong> (FCCDC)\, which helps small business owners and entrepreneurs with business planning\, lending\, and commercial space.&nbsp\;<br />\n<br />\nOur monthly After 5 events are designed to bring local business professionals together in a welcoming atmosphere\, where you can meet&nbsp\;with Chamber members and expand&nbsp\;your network. Enter in door prizes\, listen to live music by <strong>LeFever</strong>\, and enjoy&nbsp\;light fare prepared by the Blue Heron Restaurant\, named <strong>Best of the Valley 2025: French Restaurant</strong> and recipient of the <strong>2025 Wine Spectator Award of Excellence!</strong>
LOCATION:Blue Heron Restaurant 112 N. Main St. Sunderland\, MA
UID:e.1230.24343
SEQUENCE:3
DTSTAMP:20260421T202000Z
URL:https://business.amherstarea.com/events/details/2025-september-after-5-blue-heron-restaurant-24343
END:VEVENT

END:VCALENDAR
