BEGIN:VCALENDAR
VERSION:2.0
PRODID:-//ChamberMaster//Event Calendar 2.0//EN
METHOD:PUBLISH
X-PUBLISHED-TTL:P3D
REFRESH-INTERVAL:P3D
CALSCALE:GREGORIAN
BEGIN:VEVENT
DTSTART:20250131T230000Z
DTEND:20250201T020000Z
X-MICROSOFT-CDO-ALLDAYEVENT:FALSE
SUMMARY:2025 January After 5: UMass Hockey vs. Merrimack College
DESCRIPTION:Reminders:\n\n\n\nTickets will be delivered directly from UMass Athletics via email on Thursday (1/30) afternoon\, with additional event information.\n\n\n\nPARKING INFORMATION: https://www.mullinscenter.com/plan-your-visit/directions-parking\n\n\n\n~\n\n\n\n  January After 5 Networking Event at the Mullins Center\, hosted by the Amherst Area Chamber of Commerce\, the Franklin County Chamber of Commerce\, and UMass Athletics!  \n\nJoin us for a spectacular evening of networking at the UMass Men's Hockey game versus Merrimack College at the Mullins Center on January 31st\, and support our featured nonprofit\, The Food Bank of Western MA!\n\n\n\nDoors open at 6:00 PM\, allowing you to connect with fellow professionals in our exclusive After 5 space inside the Mullins Center in the beautiful Massachusetts Room AND get exclusive insights from Assistant Coach Tom Upton before the game kicks off at 7:00 PM.\n\n  Admission Includes Ticket to the Game!\n\nDon't miss the action as UMass Men's Hockey takes the ice. Our event space will be buzzing with energy and camaraderie\, creating the perfect atmosphere for networking and cheering on the Minutemen!\n\n\n\nDeadline to register is January 27th\, so sign up today!\n\n  Special Features:\n\nFamily-Friendly: This is a family-friendly event! Bring your kiddos and enjoy a night out with the whole crew (seats will be grouped together).\n\nUMass Dining Delights: Indulge in delectable treats provided by UMass Dining.\n\nCash Bar: Quench your thirst with a selection of beverages available at our cash bar.
X-ALT-DESC;FMTTYPE=text/html:<p dir="ltr" style="line-height: 1.38\; margin-top: 0pt\; margin-bottom: 15pt\;"><span style="color:#000000\;"><span id="docs-internal-guid-46f9506d-7fff-7572-d283-16670b8abbc5" style="caret-color: rgb(0\, 0\, 0)\;"><span style="font-size: 12pt\; font-family: Roboto\, sans-serif\; font-variant-ligatures: normal\; font-variant-alternates: normal\; font-variant-numeric: normal\; font-variant-east-asian: normal\; font-variant-position: normal\; vertical-align: baseline\; white-space: pre-wrap\;"><strong>Reminders:</strong><br />\n<br />\nTickets will be delivered directly from UMass Athletics via email on Thursday (1/30) afternoon\, with additional event information.</span></span></span><br />\n<br />\n<span style="font-family: Roboto\, sans-serif\; font-size: 16px\; white-space: pre\; color: rgb(0\, 0\, 0)\;"><span id="docs-internal-guid-46f9506d-7fff-7572-d283-16670b8abbc5" style="caret-color: rgb(0\, 0\, 0)\;"><span style="font-size: 12pt\; font-variant-alternates: normal\; font-variant-numeric: normal\; font-variant-east-asian: normal\; font-variant-position: normal\; vertical-align: baseline\; text-wrap-mode: wrap\;">PARKING INFORMATION: </span></span></span><a href="https://www.mullinscenter.com/plan-your-visit/directions-parking" style="font-family: Roboto\, sans-serif\; font-size: 16px\; white-space: pre\;">https://www.mullinscenter.com/plan-your-visit/directions-parking</a><br />\n<br />\n~<br />\n<br />\n<span style="color:#000000\;"><span style="caret-color: rgb(0\, 0\, 0)\;"><span style="font-size: 12pt\; font-family: Roboto\, sans-serif\; font-variant-ligatures: normal\; font-variant-alternates: normal\; font-variant-numeric: normal\; font-variant-east-asian: normal\; font-variant-position: normal\; vertical-align: baseline\; white-space: pre-wrap\;">&#127881\; January After 5 Networking Event at the Mullins Center\, hosted by the Amherst Area Chamber of Commerce\, the Franklin County Chamber of Commerce\, and UMass Athletics! &#127954\;</span></span></span></p>\n\n<p dir="ltr" style="line-height: 1.38\; margin-top: 15pt\; margin-bottom: 15pt\;"><span style="color:#000000\;"><span id="docs-internal-guid-46f9506d-7fff-7572-d283-16670b8abbc5" style="caret-color: rgb(0\, 0\, 0)\;"><span style="font-size: 12pt\; font-family: Roboto\, sans-serif\; font-variant-ligatures: normal\; font-variant-alternates: normal\; font-variant-numeric: normal\; font-variant-east-asian: normal\; font-variant-position: normal\; vertical-align: baseline\; white-space: pre-wrap\;">Join us for a spectacular evening of networking at the UMass Men&#39\;s Hockey game versus Merrimack College at the Mullins Center on January 31st\, and support our featured nonprofit\, The Food Bank of Western MA!<br />\n<br />\nDoors open at 6:00 PM\, allowing you to connect with fellow professionals in our exclusive After 5 space inside the Mullins Center in the beautiful Massachusetts Room AND get exclusive insights from Assistant Coach Tom Upton before the game kicks off at 7:00 PM.</span></span></span></p>\n\n<p dir="ltr" style="line-height: 1.38\; margin-top: 0pt\; margin-bottom: 0pt\;"><span style="color:#000000\;"><span id="docs-internal-guid-46f9506d-7fff-7572-d283-16670b8abbc5" style="caret-color: rgb(0\, 0\, 0)\;"><span style="font-size: 12pt\; font-family: Roboto\, sans-serif\; font-variant-ligatures: normal\; font-variant-alternates: normal\; font-variant-numeric: normal\; font-variant-east-asian: normal\; font-variant-position: normal\; vertical-align: baseline\; white-space: pre-wrap\;">&#127903\; Admission Includes Ticket to the Game!</span></span></span></p>\n\n<p dir="ltr" style="line-height: 1.38\; margin-top: 15pt\; margin-bottom: 15pt\;"><span style="color:#000000\;"><span id="docs-internal-guid-46f9506d-7fff-7572-d283-16670b8abbc5" style="caret-color: rgb(0\, 0\, 0)\;"><span style="font-size: 12pt\; font-family: Roboto\, sans-serif\; font-variant-ligatures: normal\; font-variant-alternates: normal\; font-variant-numeric: normal\; font-variant-east-asian: normal\; font-variant-position: normal\; vertical-align: baseline\; white-space: pre-wrap\;">Don&#39\;t miss the action as UMass Men&#39\;s Hockey takes the ice. Our event space will be buzzing with energy and camaraderie\, creating the perfect atmosphere for networking and cheering on the Minutemen!<br />\n<br />\n<strong><em>Deadline to register is January 27th\, so sign up today!</em></strong></span></span></span></p>\n\n<p dir="ltr" style="line-height: 1.38\; margin-top: 15pt\; margin-bottom: 15pt\;"><span style="color:#000000\;"><span id="docs-internal-guid-46f9506d-7fff-7572-d283-16670b8abbc5" style="caret-color: rgb(0\, 0\, 0)\;"><span style="font-size: 12pt\; font-family: Roboto\, sans-serif\; font-variant-ligatures: normal\; font-variant-alternates: normal\; font-variant-numeric: normal\; font-variant-east-asian: normal\; font-variant-position: normal\; vertical-align: baseline\; white-space: pre-wrap\;">&#127881\; Special Features:</span></span></span></p>\n\n<p dir="ltr" role="presentation" style="list-style-type: disc\; font-size: 12pt\; font-family: Roboto\, sans-serif\; color: rgb(55\, 65\, 81)\; font-variant-ligatures: normal\; font-variant-alternates: normal\; font-variant-numeric: normal\; font-variant-east-asian: normal\; font-variant-position: normal\; vertical-align: baseline\; white-space: pre\;line-height: 1.38\; margin-top: 15pt\; margin-bottom: 0pt\;"><span style="color:#000000\;"><span id="docs-internal-guid-46f9506d-7fff-7572-d283-16670b8abbc5" style="caret-color: rgb(0\, 0\, 0)\;"><span style="font-size: 12pt\; font-variant-ligatures: normal\; font-variant-alternates: normal\; font-variant-numeric: normal\; font-variant-east-asian: normal\; font-variant-position: normal\; vertical-align: baseline\; white-space: pre-wrap\;"><strong>Family-Friendly:</strong> This is a family-friendly event! Bring your kiddos and enjoy a night out with the whole crew (seats will be grouped together).</span></span></span></p>\n\n<p dir="ltr" role="presentation" style="list-style-type: disc\; font-size: 12pt\; font-family: Roboto\, sans-serif\; color: rgb(55\, 65\, 81)\; font-variant-ligatures: normal\; font-variant-alternates: normal\; font-variant-numeric: normal\; font-variant-east-asian: normal\; font-variant-position: normal\; vertical-align: baseline\; white-space: pre\;line-height: 1.38\; margin-top: 0pt\; margin-bottom: 0pt\;"><span style="color:#000000\;"><span id="docs-internal-guid-46f9506d-7fff-7572-d283-16670b8abbc5" style="caret-color: rgb(0\, 0\, 0)\;"><span style="font-size: 12pt\; font-variant-ligatures: normal\; font-variant-alternates: normal\; font-variant-numeric: normal\; font-variant-east-asian: normal\; font-variant-position: normal\; vertical-align: baseline\; white-space: pre-wrap\;"><strong>UMass Dining Delights:</strong> Indulge in delectable treats provided by UMass Dining.</span></span></span></p>\n\n<p dir="ltr" role="presentation" style="list-style-type: disc\; font-size: 12pt\; font-family: Roboto\, sans-serif\; color: rgb(55\, 65\, 81)\; font-variant-ligatures: normal\; font-variant-alternates: normal\; font-variant-numeric: normal\; font-variant-east-asian: normal\; font-variant-position: normal\; vertical-align: baseline\; white-space: pre\;line-height: 1.38\; margin-top: 0pt\; margin-bottom: 15pt\;"><span style="color:#000000\;"><span id="docs-internal-guid-46f9506d-7fff-7572-d283-16670b8abbc5" style="caret-color: rgb(0\, 0\, 0)\;"><span style="font-size: 12pt\; font-variant-ligatures: normal\; font-variant-alternates: normal\; font-variant-numeric: normal\; font-variant-east-asian: normal\; font-variant-position: normal\; vertical-align: baseline\; white-space: pre-wrap\;"><strong>Cash Bar:</strong> Quench your thirst with a selection of beverages available at our cash bar.</span></span></span></p>\n
LOCATION:Mullins Center The Massachusetts Room 200 Commonwealth Avenue Amherst MA 01003
UID:e.1230.24274
SEQUENCE:3
DTSTAMP:20260422T085812Z
URL:https://business.amherstarea.com/events/details/2025-january-after-5-umass-hockey-vs-merrimack-college-24274
END:VEVENT

END:VCALENDAR
