BEGIN:VCALENDAR
VERSION:2.0
PRODID:-//ChamberMaster//Event Calendar 2.0//EN
METHOD:PUBLISH
X-PUBLISHED-TTL:P3D
REFRESH-INTERVAL:P3D
CALSCALE:GREGORIAN
BEGIN:VEVENT
DTSTART:20251204T140000Z
DTEND:20251204T170000Z
X-MICROSOFT-CDO-ALLDAYEVENT:FALSE
SUMMARY:2025 Gift Card Match Day
DESCRIPTION:Join us for our Fifth Annual Gift Card Match Day! Purchase a $25 Amherst Area Gift Card with a small $1 processing fee. For every card purchased\, the Chamber will provide a gift card with a value of $50\, effectively doubling the shopping power. Thank you to our sponsor\, UMassFive College Federal Credit Union\, for making this Match Day possible and supporting small business!\n\n\n\nEach individual may purchase up to two matched gift cards while supplies last.\n\n\n\nVisit amherstarea.com/giftcard to see all the wonderful places where you can redeem your Amherst Area Gift Card this holiday season\, and #ShopLocalAllSeasonLong!
X-ALT-DESC;FMTTYPE=text/html:<div class="fl-module fl-module-rich-text fl-node-j8rbs4eywq6m" data-node="j8rbs4eywq6m" style="box-sizing: border-box\; font-family: &quot\;Source Sans Pro&quot\;\, sans-serif\; font-size: 16px\;">\n<div class="fl-module-content fl-node-content" style="box-sizing: border-box\; margin: 20px\;">\n<div class="fl-rich-text" style="box-sizing: border-box\;">\n<p style="box-sizing: border-box\; margin: 0px 0px 10px\;">Join us for our Fifth Annual Gift Card Match Day! Purchase a $25 Amherst Area Gift Card with a small $1 processing fee. For every card purchased\, the Chamber will provide a gift card with a value of $50\, effectively doubling the shopping power. Thank you to our sponsor\, UMassFive College Federal Credit Union\, for making this Match Day possible and supporting small business!<br />\n<br />\nEach individual may purchase up to two matched gift cards while supplies last.<br />\n<br />\nVisit&nbsp\;<a href="http://amherstarea.com/giftcard" style="box-sizing: border-box\; background-color: transparent\; color: rgb(27\, 88\, 124)\; text-decoration-line: none\;">amherstarea.com/giftcard</a>&nbsp\;to see all the wonderful places where you can redeem your Amherst Area Gift Card this holiday season\, and #ShopLocalAllSeasonLong!</p>\n</div>\n</div>\n</div>\n
LOCATION:Visitors Information Center 35 S. Pleasant St. Amherst\, MA 01002
UID:e.1230.24270
SEQUENCE:3
DTSTAMP:20260421T160113Z
URL:https://business.amherstarea.com/events/details/2025-gift-card-match-day-24270
END:VEVENT

END:VCALENDAR
