BEGIN:VCALENDAR
VERSION:2.0
PRODID:-//ChamberMaster//Event Calendar 2.0//EN
METHOD:PUBLISH
X-PUBLISHED-TTL:P3D
REFRESH-INTERVAL:P3D
CALSCALE:GREGORIAN
BEGIN:VEVENT
DTSTART:20250427T160000Z
DTEND:20250427T160000Z
X-MICROSOFT-CDO-ALLDAYEVENT:FALSE
SUMMARY:2025 Daffodil Run/Walk 5k/10k
DESCRIPTION:Walk or run and invite others to join you in support of mentoring. Register for the Daffodil Run.\n\n\n\nThis community event has become the first marker of spring for the town of Amherst and draws hundreds of community members to the area to participate and cheer on their family and friends. Look forward to 5K Run/Walk & 10K Run post-race party with delicious food\, and family-friendly fun.\n\n\n\nThe Daffodil Run helps sustain the power of youth mentoring through Big Brothers Big Sisters by connecting adult mentors with young people in our community. Once matched they go on to build a meaningful\, positive relationship that empowers the potential inherent in each child.
X-ALT-DESC;FMTTYPE=text/html:Walk or run and invite others to join you in support of mentoring. Register for the Daffodil Run.<br />\n<br />\nThis community event has become the first marker of spring for the town of Amherst and draws hundreds of community members to the area to participate and cheer on their family and friends. Look forward to 5K Run/Walk &amp\; 10K Run post-race party with delicious food\, and family-friendly fun.<br />\n<br />\nThe Daffodil Run helps sustain the power of youth mentoring through Big Brothers Big Sisters by connecting adult mentors with young people in our community. Once matched they go on to build a meaningful\, positive relationship that empowers the potential inherent in each child.
LOCATION:Amherst Town Common
UID:e.1230.24324
SEQUENCE:3
DTSTAMP:20260421T100734Z
URL:https://business.amherstarea.com/events/details/2025-daffodil-run-walk-5k-10k-24324
END:VEVENT

END:VCALENDAR
