BEGIN:VCALENDAR
VERSION:2.0
PRODID:-//ChamberMaster//Event Calendar 2.0//EN
METHOD:PUBLISH
X-PUBLISHED-TTL:P3D
REFRESH-INTERVAL:P3D
CALSCALE:GREGORIAN
BEGIN:VEVENT
DTSTART:20250122T170000Z
DTEND:20250122T190000Z
X-MICROSOFT-CDO-ALLDAYEVENT:FALSE
SUMMARY:2025 Annual Meeting
DESCRIPTION:Elevate your business at the Chamber's Annual Meeting on January 22nd at The Red Barn at Hampshire College\, presented by Encharter Insurance. Join us for an inspiring review of the year\, unveiling the 2025 theme\, "Cultivating Connection\," and look ahead with us at what is to come.\n\n\n\nRegister now for an afternoon of networking\, celebration\, and strategic insights!  \n\n\n\nMORE DETAILS TO COME.
X-ALT-DESC;FMTTYPE=text/html:<span style="box-sizing: border-box\; outline: 0px\; font-family: &quot\;Source sans pro&quot\;\, sans-serif\; text-align: center\; font-size: 14px\;">&#127775\; Elevate your business at the Chamber&#39\;s Annual Meeting on January 22nd at The Red Barn at Hampshire College\, presented by Encharter Insurance. Join us for an inspiring review of the year\, unveiling the 2025 theme\, &quot\;Cultivating Connection\,&quot\; and look ahead with us at what is to come.</span><br style="box-sizing: border-box\;" />\n<br />\n<span style="box-sizing: border-box\; outline: 0px\; font-family: &quot\;Source sans pro&quot\;\, sans-serif\; text-align: center\; font-size: 14px\;">Register now for an afternoon of networking\, celebration\, and strategic insights! &#127760\;<br />\n<br />\nMORE DETAILS TO COME.</span>
LOCATION:The Red Barn at Hampshire College 893 West Street Amherst\, MA 01002
UID:e.1230.24250
SEQUENCE:3
DTSTAMP:20260422T085057Z
URL:https://business.amherstarea.com/events/details/2025-annual-meeting-24250
END:VEVENT

END:VCALENDAR
