BEGIN:VCALENDAR
VERSION:2.0
PRODID:-//ChamberMaster//Event Calendar 2.0//EN
METHOD:PUBLISH
X-PUBLISHED-TTL:P3D
REFRESH-INTERVAL:P3D
CALSCALE:GREGORIAN
BEGIN:VEVENT
DTSTART:20251118T220000Z
DTEND:20251119T010000Z
X-MICROSOFT-CDO-ALLDAYEVENT:FALSE
SUMMARY:2025 A+ Awards Dinner
DESCRIPTION:NOTE: Parking is complimentary in the UMass Parking Garage at 91 Campus Center Way for the duration of the event.\n\n\n\nCelebrating excellence\, impact and legacy! Each year\, the Amherst Area Chamber bestows A+ Awards to individuals and organizations that enrich the life of the community through their work in business\, education\, and civic engagement across the area that the Chamber serves: Amherst\, Belchertown\, Hadley\, Leverett\, Pelham\, Shutesbury\, and Sunderland. \n\n\n\nThe 2025 Annual A+ Awards Dinner will be held on Tuesday\, November 18 in the Student Union Ballroom at the University of Massachusetts Amherst from 5 - 8 PM.\n\n\n\nThis Year's Awardees:\n\n	Young Professional Award: Alyssa Petrides\, Nature & Nurture Preschool\n	Community Service Award: Sarah Maroney\, Belchertown Creative Economy Committee\n	Leader In Sustainability Award: Weston Dripps\, Amherst College\n	Chamber MVP Award: Robert Allingham\, Amherst Business Improvement District\n	Legacy Award: Clare Higgins\, Community Action Pioneer Valley\n	Lifetime Achievement Award: Tullio Inglese\, TIA Architects
X-ALT-DESC;FMTTYPE=text/html:<strong><em style="font-family: arial\;">NOTE: Parking is complimentary in the UMass Parking Garage at 91 Campus Center Way for the duration of the event.</em></strong><br style="font-family: arial\;" />\n<br />\n<span style="font-family:arial\;">Celebrating excellence\, impact and legacy! Each year\, the Amherst Area Chamber bestows A+ Awards to individuals and organizations that enrich the life of the community through their work in business\, education\, and civic engagement across the area that the Chamber serves: Amherst\, Belchertown\, Hadley\, Leverett\, Pelham\, Shutesbury\, and Sunderland.&nbsp\;<br />\n<br />\nThe 2025 Annual A+ Awards Dinner will be held on Tuesday\, November 18 in the Student Union Ballroom at the University of Massachusetts Amherst from 5 - 8 PM.<br />\n<br />\n<u>This Year&#39\;s Awardees:</u></span>\n<ul>\n	<li class="cvGsUA direction-ltr align-start para-style-body" style="color: rgb(43\, 43\, 43)\; font-family: &quot\;YACgEQNAr7w 0&quot\;\, _fb_\, auto\; --cyV3ZQ: 25.0967px\; --gJPlXQ: 1.4\; line-height: 35px\;"><span style="font-family: arial\;"><span class="OYPEnA font-feature-liga-off font-feature-clig-off font-feature-calt-off text-decoration-none text-strikethrough-none" style="font-weight: 700\; font-kerning: none\;">Young Professional Award: Alyssa Petrides\,&nbsp\;<em>Nature &amp\; Nurture Preschool</em></span></span></li>\n	<li class="cvGsUA direction-ltr align-start para-style-body" style="color: rgb(43\, 43\, 43)\; font-family: &quot\;YACgEQNAr7w 0&quot\;\, _fb_\, auto\; --cyV3ZQ: 25.0967px\; --gJPlXQ: 1.4\; line-height: 35px\;"><span style="font-family: arial\;"><span class="OYPEnA font-feature-liga-off font-feature-clig-off font-feature-calt-off text-decoration-none text-strikethrough-none" style="font-weight: 700\; font-kerning: none\;">Community Service Award: Sarah Maroney\,&nbsp\;<em>Belchertown Creative Economy Committee</em></span></span></li>\n	<li class="cvGsUA direction-ltr align-start para-style-body" style="color: rgb(43\, 43\, 43)\; font-family: &quot\;YACgEQNAr7w 0&quot\;\, _fb_\, auto\; --cyV3ZQ: 25.0967px\; --gJPlXQ: 1.4\; line-height: 35px\;"><span style="font-family: arial\;"><span class="OYPEnA font-feature-liga-off font-feature-clig-off font-feature-calt-off text-decoration-none text-strikethrough-none" style="font-weight: 700\; font-kerning: none\;">Leader In Sustainability Award: Weston Dripps\,&nbsp\;<em>Amherst College</em></span></span></li>\n	<li class="cvGsUA direction-ltr align-start para-style-body" style="color: rgb(43\, 43\, 43)\; font-family: &quot\;YACgEQNAr7w 0&quot\;\, _fb_\, auto\; --cyV3ZQ: 25.0967px\; --gJPlXQ: 1.4\; line-height: 35px\;"><span style="font-family: arial\;"><span class="OYPEnA font-feature-liga-off font-feature-clig-off font-feature-calt-off text-decoration-none text-strikethrough-none" style="font-weight: 700\; font-kerning: none\;">Chamber MVP Award: Robert Allingham\,&nbsp\;<em>Amherst Business Improvement District</em></span></span></li>\n	<li class="cvGsUA direction-ltr align-start para-style-body" style="color: rgb(43\, 43\, 43)\; font-family: &quot\;YACgEQNAr7w 0&quot\;\, _fb_\, auto\; --cyV3ZQ: 25.0967px\; --gJPlXQ: 1.4\; line-height: 35px\;"><span style="font-family: arial\;"><span class="OYPEnA font-feature-liga-off font-feature-clig-off font-feature-calt-off text-decoration-none text-strikethrough-none" style="font-weight: 700\; font-kerning: none\;">Legacy Award: Clare Higgins\,&nbsp\;<em>Community Action Pioneer Valley</em></span></span></li>\n	<li class="cvGsUA direction-ltr align-start para-style-body" style="color: rgb(43\, 43\, 43)\; font-family: &quot\;YACgEQNAr7w 0&quot\;\, _fb_\, auto\; --cyV3ZQ: 25.0967px\; --gJPlXQ: 1.4\; line-height: 35px\;"><span style="font-family: arial\;"><span class="OYPEnA font-feature-liga-off font-feature-clig-off font-feature-calt-off text-decoration-none text-strikethrough-none" style="font-weight: 700\; font-kerning: none\;">Lifetime Achievement Award: Tullio Inglese\,&nbsp\;<em>TIA Architects</em></span></span></li>\n</ul>\n
LOCATION:UMass Amherst Student Union Ballroom 41 Campus Center Way Amherst\, MA 01003
UID:e.1230.24266
SEQUENCE:3
DTSTAMP:20260421T171532Z
URL:https://business.amherstarea.com/events/details/2025-a-awards-dinner-24266
END:VEVENT

END:VCALENDAR
