BEGIN:VCALENDAR
VERSION:2.0
PRODID:-//ChamberMaster//Event Calendar 2.0//EN
METHOD:PUBLISH
X-PUBLISHED-TTL:P3D
REFRESH-INTERVAL:P3D
CALSCALE:GREGORIAN
BEGIN:VEVENT
DTSTART:20241206T200000Z
DTEND:20241206T230000Z
X-MICROSOFT-CDO-ALLDAYEVENT:FALSE
SUMMARY:2024 Lighting of the Merry Maple
DESCRIPTION:Join the Amherst Area Chamber of Commerce and the Amherst Business Improvement District for a magical evening where downtown Amherst becomes a winter wonderland!\n\n\n\nActivities:\n\n	The tree lighting will take place on the North Common at 5 PM.\n	Open House at Amherst Fire Station from 3 - 6 PM\n	Amherst Fire Truck will escort the UMass Minutemen Marching Band at 5:30 PM with Santa Claus!\n	Flakey the Snowman will join us with games to play with Amherst Recreation from 3 to 6 PM\n	Horse-drawn Carriage Rides with Muddy Brook Farm will take place from 4 to 6 PM\n\nPerformances:\n\n\n	Amherst Regional Middle School Chorus at 4:30 PM\n	UMass Minutemen Marching Band at 5:30 PM\n\nWe're excited to have Family Outreach of Amherst join us as our Featured Nonprofit!\n\n\n\nThank you to our sponsors: bankESB\, TommyCar Auto Group\, Edward Jones - Office of Tim Hampson\, and Amherst College.
X-ALT-DESC;FMTTYPE=text/html:<font face="arial\, sans-serif"><span style="font-size: 13.3333px\;"><b>Join the Amherst Area Chamber of Commerce and the Amherst Business Improvement District for a magical evening where downtown Amherst becomes a winter wonderland!</b></span></font><br />\n<br />\nActivities:\n<ul>\n	<li>The tree lighting will take place on the North Common at 5 PM.</li>\n	<li>Open House at Amherst Fire Station from 3 - 6 PM</li>\n	<li>Amherst Fire Truck will escort the UMass Minutemen Marching Band at 5:30 PM with Santa Claus!</li>\n	<li>Flakey the Snowman will join us with games to play with Amherst Recreation from 3 to 6 PM</li>\n	<li>Horse-drawn Carriage Rides with Muddy Brook Farm will take place from 4 to 6 PM</li>\n</ul>\nPerformances:\n\n<ul>\n	<li>Amherst Regional Middle School Chorus at 4:30 PM</li>\n	<li>UMass Minutemen Marching Band at 5:30 PM</li>\n</ul>\nWe&#39\;re excited to have Family Outreach of Amherst join us as our Featured Nonprofit!<br />\n<br />\nThank you to our sponsors: bankESB\, TommyCar Auto Group\, Edward Jones - Office of Tim Hampson\, and Amherst College.
LOCATION:North Common Amherst\, MA 01002
UID:e.1230.24152
SEQUENCE:3
DTSTAMP:20260420T164729Z
URL:https://business.amherstarea.com/events/details/2024-lighting-of-the-merry-maple-24152
END:VEVENT

END:VCALENDAR
