BEGIN:VCALENDAR
VERSION:2.0
PRODID:-//ChamberMaster//Event Calendar 2.0//EN
METHOD:PUBLISH
X-PUBLISHED-TTL:P3D
REFRESH-INTERVAL:P3D
CALSCALE:GREGORIAN
BEGIN:VEVENT
DTSTART;VALUE=DATE:20241205
DTEND;VALUE=DATE:20241206
TRANSP:TRANSPARENT
X-MICROSOFT-CDO-ALLDAYEVENT:TRUE
SUMMARY:2024 Gift Card Match Day!
DESCRIPTION:We're excited to announce the Fourth Annual Holiday Gift Card Match Program! \n\n\n\n \n\n\n\nFor ONE DAY ONLY on Thursday\, December 5th\, purchase a $25 Amherst Area Gift Card with a $1 processing fee and receive a gift card with TWICE THE VALUE ($50)! \n\n\n\nNo advance sales and purchase in-person only. Limit 2 Gift Cards per person - while supplies last!\n\n\n\n \n\n\n\nThank you to our sponsor\, UMassFive College Federal Credit Union!\n\n\n\nVisit amherstarea.com/giftcard to see all the wonderful places where you can redeem your Amherst Area Gift Card this holiday season\, and #ShopLocalAllSeasonLong!
X-ALT-DESC;FMTTYPE=text/html:We&#39\;re excited to announce the Fourth Annual Holiday Gift Card Match Program!&nbsp\;<br />\n<br />\n<span style="color: rgb(77\, 81\, 86)\; font-family: Roboto\, Arial\, sans-serif\; font-size: 14px\;">&#127873\;</span><br />\n<br />\n<strong>For ONE DAY ONLY on Thursday\, December 5th\, purchase a $25 Amherst Area Gift Card with a $1 processing fee and receive a gift card with TWICE THE VALUE ($50)!&nbsp\;</strong><br />\n<br />\n<em>No advance sales and purchase in-person only. Limit 2 Gift Cards per person - while supplies last!</em><br />\n<br />\n<span style="color: rgb(77\, 81\, 86)\; font-family: Roboto\, Arial\, sans-serif\; font-size: 14px\;">&#127873\;</span><br />\n<br />\nThank you to our sponsor\, UMassFive College Federal Credit Union!<br />\n<br />\nVisit <a href="http://amherstarea.com/giftcard">amherstarea.com/giftcard</a> to see all the wonderful places where you can redeem your Amherst Area Gift Card this holiday season\, and #ShopLocalAllSeasonLong!&nbsp\;
LOCATION:Visitors Information Center 35 S. Pleasant St. Amherst\, MA 01002
UID:e.1230.24151
SEQUENCE:3
DTSTAMP:20260422T105031Z
URL:https://business.amherstarea.com/events/details/2024-gift-card-match-day-24151
END:VEVENT

END:VCALENDAR
