BEGIN:VCALENDAR
VERSION:2.0
PRODID:-//ChamberMaster//Event Calendar 2.0//EN
METHOD:PUBLISH
X-PUBLISHED-TTL:P3D
REFRESH-INTERVAL:P3D
CALSCALE:GREGORIAN
BEGIN:VEVENT
DTSTART:20211005T123000Z
DTEND:20211005T140000Z
X-MICROSOFT-CDO-ALLDAYEVENT:FALSE
SUMMARY:Tools to Support Local Business
DESCRIPTION:In collaboration with these Western Mass chambers\, we're partnering with MassHire to help businesses across the region grow! Bizworks helps organizations take advantage of all the resources the Commonwealth has to offer   from job recruitment to hiring incentives\, tax credits to workforce training\, grants to money-saving initiatives\, and everything in between. Learn more in our free explanatory webinar on Tuesday\, October 5\, here.
X-ALT-DESC;FMTTYPE=text/html:In collaboration with these Western Mass chambers\, we&#39\;re partnering with&nbsp\;<a href="https://r20.rs6.net/tn.jsp?f=001N4tykeuYQlCSSRe9qUd1BNh6qfXBDBFwia_CW9EjfDBflt1Ti6rSaZjvHRHTnfrzIuh0sBD6GONeyoVDMJ0N16OycrGH6hUZ_P9iSiU1tuUmtZWF1R-Cu-MxmR8RkcEprX7BuCx-wc86U77aAwQ29m42ABbmIGHX0PktbcHJv7n7GJQpB6W-qg==&amp\;c=16hgU0KuCvZ8zC1bTpCijMSft4AE5G-xUqCSVSW2I9WF1PeXFLCGPw==&amp\;ch=lRzBSIVjSNjJHehC_KyPdkHHO9nGQRnwc26BsABpq82_lVnNG53m1Q==" rel="noopener noreferrer" target="_blank" title="https://r20.rs6.net/tn.jsp?f=001N4tykeuYQlCSSRe9qUd1BNh6qfXBDBFwia_CW9EjfDBflt1Ti6rSaZjvHRHTnfrzIuh0sBD6GONeyoVDMJ0N16OycrGH6hUZ_P9iSiU1tuUmtZWF1R-Cu-MxmR8RkcEprX7BuCx-wc86U77aAwQ29m42ABbmIGHX0PktbcHJv7n7GJQpB6W-qg==&amp\;c=16hgU0KuCvZ8zC1bTpCijMSft4AE5G-xUqCSVSW2I9WF1PeXFLCGPw==&amp\;ch=lRzBSIVjSNjJHehC_KyPdkHHO9nGQRnwc26BsABpq82_lVnNG53m1Q==">MassHire</a>&nbsp\;to help businesses across the region grow! Bizworks helps organizations take advantage of all the resources the Commonwealth has to offer &mdash\; from job recruitment to hiring incentives\, tax credits to workforce training\, grants to money-saving initiatives\, and everything in between. Learn more in our free explanatory webinar on Tuesday\, October 5\, <a href="https://dev.springfieldregionalchamber.com/events/details/bizworks-6144?calendarMonth=2021-10-01">here</a>.&nbsp\;
LOCATION:Online Via Zoom
UID:e.1230.23847
SEQUENCE:3
DTSTAMP:20260420T235209Z
URL:http://business.amherstarea.com/events/details/tools-to-support-local-business-23847
END:VEVENT

END:VCALENDAR
