BEGIN:VCALENDAR
VERSION:2.0
PRODID:-//ChamberMaster//Event Calendar 2.0//EN
METHOD:PUBLISH
X-PUBLISHED-TTL:P3D
REFRESH-INTERVAL:P3D
CALSCALE:GREGORIAN
BEGIN:VEVENT
DTSTART:20220805T233000Z
DTEND:20220806T010000Z
X-MICROSOFT-CDO-ALLDAYEVENT:FALSE
SUMMARY:Free Circus Show
DESCRIPTION:FREE CIRCUS SHOW\n\nCome see the result of 3 weeks of creative\, rigorous\, and invigorating training from NECCA's Performance Boot Camp students.\n\nWHEN: Aug. 5 at 7:30 pm\n\nWHERE: Trapezium\n10 Town Crier Dr\nBrattleboro\, VT 05301\n\nTICKETS: By donation - reserve online: https://www.eventbrite.com/e/performance-boot-camp-show-tickets-382429776757\n\nVOLUNTEER: https://necca.ivolunteer.com/pt2_2023\n\nMORE INFO: https://necenterforcircusarts.org/about/performance-boot-camp-show/\ninfo@necenterforcircusarts.org\n802-254-9780
X-ALT-DESC;FMTTYPE=text/html:FREE CIRCUS SHOW\n\nCome see the result of 3 weeks of creative\, rigorous\, and invigorating training from NECCA's Performance Boot Camp students.\n\nWHEN: Aug. 5 at 7:30 pm\n\nWHERE: Trapezium\n10 Town Crier Dr\nBrattleboro\, VT 05301\n\nTICKETS: By donation - reserve online: https://www.eventbrite.com/e/performance-boot-camp-show-tickets-382429776757\n\nVOLUNTEER: https://necca.ivolunteer.com/pt2_2023\n\nMORE INFO: https://necenterforcircusarts.org/about/performance-boot-camp-show/\ninfo@necenterforcircusarts.org\n802-254-9780
LOCATION:
UID:e.1230.23924
SEQUENCE:3
DTSTAMP:20260425T023523Z
URL:http://business.amherstarea.com/events/details/free-circus-show-23924
END:VEVENT

END:VCALENDAR
